BEGIN:VCALENDAR
VERSION:2.0
PRODID:-//AWO Schwedt//NONSGML kigkonsult.se iCalcreator 2.41.92//
CALSCALE:GREGORIAN
METHOD:PUBLISH
UID:61623265-6435-4031-b132-383863653861
X-WR-CALNAME:iCagenda
X-WR-CALDESC:Event Management Extension for Joomla!
X-WR-RELCALID:3E26604A-50F4-4449-8B3E-E4F4932D05B5
X-WR-TIMEZONE:UTC
BEGIN:VTIMEZONE
TZID:UTC
END:VTIMEZONE
BEGIN:VEVENT
UID:38326437-3430-4139-a531-636561373662
DTSTAMP:20260419T180737Z
CATEGORIES:Begegnungsstätte  |  Bertolt- Brecht- Platz
CLASS:PUBLIC
DESCRIPTION;ALTREP="CID:<FFFF__=0ABBE548DFE235B58f9e8a93d@coffeebean.com>":
 Fahrt mit dem Bus nach Pinnow in die Alte Schmiede
DTSTART:20220804T000000Z
DTEND:20220804T235900Z
GEO:+53.06044;+14.085532
LOCATION:Eis- und Kuchenschmiede Pinnow
ORGANIZER:
SEQUENCE:1
SUMMARY:Besuch der Eis- und Kuchenschmiede Pinnow
TRANSP:OPAQUE
URL:https://www.awo-schwedt.de/index.php/veranstaltungen/besuch-der-eis-und
 -kuchenschmiede-pinnow/2022-08-04-00-00
END:VEVENT
END:VCALENDAR
